BEGIN:VCALENDAR
VERSION:2.0
PRODID:-//Wake Up Narcolepsy - ECPv6.15.7//NONSGML v1.0//EN
CALSCALE:GREGORIAN
METHOD:PUBLISH
X-ORIGINAL-URL:https://www.wakeupnarcolepsy.org
X-WR-CALDESC:Events for Wake Up Narcolepsy
REFRESH-INTERVAL;VALUE=DURATION:PT1H
X-Robots-Tag:noindex
X-PUBLISHED-TTL:PT1H
BEGIN:VTIMEZONE
TZID:America/New_York
BEGIN:DAYLIGHT
TZOFFSETFROM:-0500
TZOFFSETTO:-0400
TZNAME:EDT
DTSTART:20250309T070000
END:DAYLIGHT
BEGIN:STANDARD
TZOFFSETFROM:-0400
TZOFFSETTO:-0500
TZNAME:EST
DTSTART:20251102T060000
END:STANDARD
BEGIN:DAYLIGHT
TZOFFSETFROM:-0500
TZOFFSETTO:-0400
TZNAME:EDT
DTSTART:20260308T070000
END:DAYLIGHT
BEGIN:STANDARD
TZOFFSETFROM:-0400
TZOFFSETTO:-0500
TZNAME:EST
DTSTART:20261101T060000
END:STANDARD
BEGIN:DAYLIGHT
TZOFFSETFROM:-0500
TZOFFSETTO:-0400
TZNAME:EDT
DTSTART:20270314T070000
END:DAYLIGHT
BEGIN:STANDARD
TZOFFSETFROM:-0400
TZOFFSETTO:-0500
TZNAME:EST
DTSTART:20271107T060000
END:STANDARD
END:VTIMEZONE
BEGIN:VTIMEZONE
TZID:America/Chicago
BEGIN:DAYLIGHT
TZOFFSETFROM:-0600
TZOFFSETTO:-0500
TZNAME:CDT
DTSTART:20250309T080000
END:DAYLIGHT
BEGIN:STANDARD
TZOFFSETFROM:-0500
TZOFFSETTO:-0600
TZNAME:CST
DTSTART:20251102T070000
END:STANDARD
BEGIN:DAYLIGHT
TZOFFSETFROM:-0600
TZOFFSETTO:-0500
TZNAME:CDT
DTSTART:20260308T080000
END:DAYLIGHT
BEGIN:STANDARD
TZOFFSETFROM:-0500
TZOFFSETTO:-0600
TZNAME:CST
DTSTART:20261101T070000
END:STANDARD
BEGIN:DAYLIGHT
TZOFFSETFROM:-0600
TZOFFSETTO:-0500
TZNAME:CDT
DTSTART:20270314T080000
END:DAYLIGHT
BEGIN:STANDARD
TZOFFSETFROM:-0500
TZOFFSETTO:-0600
TZNAME:CST
DTSTART:20271107T070000
END:STANDARD
END:VTIMEZONE
BEGIN:VEVENT
DTSTART;TZID=America/New_York:20260324T190000
DTEND;TZID=America/New_York:20260324T200000
DTSTAMP:20260421T080731
CREATED:20231122T200027Z
LAST-MODIFIED:20240905T114950Z
UID:10001966-1774378800-1774382400@www.wakeupnarcolepsy.org
SUMMARY:College & Careers with Narcolepsy Support Group
DESCRIPTION:This support group is for individuals currently navigating college and careers with a diagnosis of Narcolepsy. Our focus is on relevant issues\, such as symptom management\, school\, work\, relationships\, exercise\, health and diet. Attendees are welcome to bring their most pressing concerns to the group for peer-to-peer support. Discussions are guided by a peer facilitator\, with Narcolepsy\, navigating the same issues. Meetings are held each Tuesday online and require registration\, which is free of charge. \nWake Up Narcolepsy offers 9 weekly online free support groups through Heypeers. More information and the full schedule can be found here.
URL:https://www.wakeupnarcolepsy.org/event/support-group-college-careers/2026-03-24/
LOCATION:HeyPeers Website
CATEGORIES:Support Groups
END:VEVENT
BEGIN:VEVENT
DTSTART;TZID=America/Chicago:20260324T190000
DTEND;TZID=America/Chicago:20260324T210000
DTSTAMP:20260421T080731
CREATED:20260323T195437Z
LAST-MODIFIED:20260323T195437Z
UID:10002937-1774378800-1774386000@www.wakeupnarcolepsy.org
SUMMARY:Nashville WUN Community Gathering
DESCRIPTION:Community is everything\, and there’s something extra special about connecting in person- especially when we get creative together! \nJoin WUN and local community members for a relaxed\, welcoming gathering at a local art studio\, Hawaii Fluid Art\, on Tuesday\, March 24th from 7-9 pm. While we work on our own projects\, we’ll share experiences\, ask questions and enjoy conversation with others who truly understand life with Narcolepsy or IH. \nNo artistic experience is needed… just come as you are! All supplies will be provided\, along with light refreshments. \nLearn More & Register Now
URL:https://www.wakeupnarcolepsy.org/event/nashville-wun-community-gathering/
CATEGORIES:Community Events
END:VEVENT
END:VCALENDAR