BEGIN:VCALENDAR
VERSION:2.0
PRODID:-//Wake Up Narcolepsy - ECPv6.15.7//NONSGML v1.0//EN
CALSCALE:GREGORIAN
METHOD:PUBLISH
X-ORIGINAL-URL:https://www.wakeupnarcolepsy.org
X-WR-CALDESC:Events for Wake Up Narcolepsy
REFRESH-INTERVAL;VALUE=DURATION:PT1H
X-Robots-Tag:noindex
X-PUBLISHED-TTL:PT1H
BEGIN:VTIMEZONE
TZID:America/New_York
BEGIN:DAYLIGHT
TZOFFSETFROM:-0500
TZOFFSETTO:-0400
TZNAME:EDT
DTSTART:20240310T070000
END:DAYLIGHT
BEGIN:STANDARD
TZOFFSETFROM:-0400
TZOFFSETTO:-0500
TZNAME:EST
DTSTART:20241103T060000
END:STANDARD
BEGIN:DAYLIGHT
TZOFFSETFROM:-0500
TZOFFSETTO:-0400
TZNAME:EDT
DTSTART:20250309T070000
END:DAYLIGHT
BEGIN:STANDARD
TZOFFSETFROM:-0400
TZOFFSETTO:-0500
TZNAME:EST
DTSTART:20251102T060000
END:STANDARD
BEGIN:DAYLIGHT
TZOFFSETFROM:-0500
TZOFFSETTO:-0400
TZNAME:EDT
DTSTART:20260308T070000
END:DAYLIGHT
BEGIN:STANDARD
TZOFFSETFROM:-0400
TZOFFSETTO:-0500
TZNAME:EST
DTSTART:20261101T060000
END:STANDARD
END:VTIMEZONE
BEGIN:VEVENT
DTSTART;VALUE=DATE:20250309
DTEND;VALUE=DATE:20250316
DTSTAMP:20260420T041951
CREATED:20250123T143524Z
LAST-MODIFIED:20250310T153335Z
UID:10002583-1741478400-1742083199@www.wakeupnarcolepsy.org
SUMMARY:Sleep Awareness Week® 2025
DESCRIPTION:The National Sleep Foundation’s Sleep Awareness Week® 2025 is taking place March 9th – 15th! \nMore information on Wake Up Narcolepsy (WUN)’s upcoming awareness campaign can be found here. \nThank you to our 2025 Awareness Sponsors! \nDiamond Champion Sponsors: \n \nGold Champion Sponsors: \n\n    \n\nSilver Champion Sponsors: \n \nProgram Sponsors:
URL:https://www.wakeupnarcolepsy.org/event/sleep-awareness-week-2025/
CATEGORIES:Awareness Days & Campaigns
END:VEVENT
BEGIN:VEVENT
DTSTART;TZID=America/New_York:20250313T140000
DTEND;TZID=America/New_York:20250313T140000
DTSTAMP:20260420T041951
CREATED:20250102T183954Z
LAST-MODIFIED:20250213T153109Z
UID:10002570-1741874400-1741874400@www.wakeupnarcolepsy.org
SUMMARY:March Brown Bag Webinar: Pediatric Narcolepsy Medications & Symptom Management
DESCRIPTION:Join WUN for an informative webinar with Kiran Maski\, MD\, MPH\, as she explores the latest treatment options\, lifestyle adjustments and practical strategies to enhance the quality of life for children living with Narcolepsy. Don’t miss this opportunity to gain expert insights and ask questions in a live discussion! \nNote: Pre-registration required \nRegister \nLearn more about Brown Bag Webinars here.
URL:https://www.wakeupnarcolepsy.org/event/march-bbw-2025/
CATEGORIES:Webinars & Discussions
END:VEVENT
BEGIN:VEVENT
DTSTART;TZID=America/New_York:20250313T183000
DTEND;TZID=America/New_York:20250313T193000
DTSTAMP:20260420T041951
CREATED:20231122T195107Z
LAST-MODIFIED:20240905T115213Z
UID:10000608-1741890600-1741894200@www.wakeupnarcolepsy.org
SUMMARY:Living with Narcolepsy: Canada Support Group
DESCRIPTION:The living with Narcolepsy-Canada group is an open drop-in for Canadian adults affected by Narcolepsy. The group offers weekly support based on participant needs as they arise while navigating life with Narcolepsy. Led by people directly affected by the condition\, this is an ideal group to bring your current concerns and challenges to. While the focus is towards PWNs\, care-givers\, parents and spouses are also warmly invited to participate within the peer to peer platform. \nWake Up Narcolepsy offers 9 weekly online free support groups through Heypeers. More information and the full schedule can be found here.
URL:https://www.wakeupnarcolepsy.org/event/support-group-canada/2025-03-13/
LOCATION:HeyPeers Website
CATEGORIES:Support Groups
END:VEVENT
END:VCALENDAR